BEGIN:VCALENDAR
VERSION:2.0
PRODID:-//Mallarmé Music - ECPv6.15.20//NONSGML v1.0//EN
CALSCALE:GREGORIAN
METHOD:PUBLISH
X-ORIGINAL-URL:https://www.mallarmemusic.org
X-WR-CALDESC:Events for Mallarmé Music
REFRESH-INTERVAL;VALUE=DURATION:PT1H
X-Robots-Tag:noindex
X-PUBLISHED-TTL:PT1H
BEGIN:VTIMEZONE
TZID:America/New_York
BEGIN:DAYLIGHT
TZOFFSETFROM:-0500
TZOFFSETTO:-0400
TZNAME:EDT
DTSTART:20230312T070000
END:DAYLIGHT
BEGIN:STANDARD
TZOFFSETFROM:-0400
TZOFFSETTO:-0500
TZNAME:EST
DTSTART:20231105T060000
END:STANDARD
BEGIN:DAYLIGHT
TZOFFSETFROM:-0500
TZOFFSETTO:-0400
TZNAME:EDT
DTSTART:20240310T070000
END:DAYLIGHT
BEGIN:STANDARD
TZOFFSETFROM:-0400
TZOFFSETTO:-0500
TZNAME:EST
DTSTART:20241103T060000
END:STANDARD
BEGIN:DAYLIGHT
TZOFFSETFROM:-0500
TZOFFSETTO:-0400
TZNAME:EDT
DTSTART:20250309T070000
END:DAYLIGHT
BEGIN:STANDARD
TZOFFSETFROM:-0400
TZOFFSETTO:-0500
TZNAME:EST
DTSTART:20251102T060000
END:STANDARD
END:VTIMEZONE
BEGIN:VEVENT
DTSTART;TZID=America/New_York:20241020T170000
DTEND;TZID=America/New_York:20241020T183000
DTSTAMP:20260419T162146
CREATED:20240913T193510Z
LAST-MODIFIED:20240913T193825Z
UID:4615-1729443600-1729449000@www.mallarmemusic.org
SUMMARY:PARTNER EVENT: Duke Chapel Bach Cantata Series - Reformation Music
DESCRIPTION:Duke Chapel Bach Cantata Concert\nSunday\, October 20\, 2024\, 5:00 p.m.\nLocation: Duke University Chapel\n\nDr. Philip Cave\, director\nDuke Chapel Bach Choir\nMallarme Music \nLeipzig I: Reformation Music\nEin feste Burg ist unser Gott BWV 80\nEin feste Burg ist unser Gott BWV 720\nWas mein Gott will\, das g’scheh allzeit BWV 111 \nPre-concert talk at 4:00 p.m. in Goodson Chapel. \nFree and open to the public
URL:https://www.mallarmemusic.org/event/partner-event-duke-chapel-bach-cantata-series-2/
LOCATION:Duke University Chapel\, 401 Chapel Drive\, Durham\, NC\, 27708\, United States
CATEGORIES:Concert,Partner Event
ATTACH;FMTTYPE=image/jpeg:https://www.mallarmemusic.org/wp-content/uploads/2024/09/Bach-Cantata-Series.jpg
ORGANIZER;CN="Mallarme Chamber Players":MAILTO:office@mallarmemusic.org
END:VEVENT
END:VCALENDAR