BEGIN:VCALENDAR
VERSION:2.0
PRODID:-//Mallarmé Music - ECPv6.15.20//NONSGML v1.0//EN
CALSCALE:GREGORIAN
METHOD:PUBLISH
X-WR-CALNAME:Mallarmé Music
X-ORIGINAL-URL:https://www.mallarmemusic.org
X-WR-CALDESC:Events for Mallarmé Music
REFRESH-INTERVAL;VALUE=DURATION:PT1H
X-Robots-Tag:noindex
X-PUBLISHED-TTL:PT1H
BEGIN:VTIMEZONE
TZID:America/New_York
BEGIN:DAYLIGHT
TZOFFSETFROM:-0500
TZOFFSETTO:-0400
TZNAME:EDT
DTSTART:20220313T070000
END:DAYLIGHT
BEGIN:STANDARD
TZOFFSETFROM:-0400
TZOFFSETTO:-0500
TZNAME:EST
DTSTART:20221106T060000
END:STANDARD
BEGIN:DAYLIGHT
TZOFFSETFROM:-0500
TZOFFSETTO:-0400
TZNAME:EDT
DTSTART:20230312T070000
END:DAYLIGHT
BEGIN:STANDARD
TZOFFSETFROM:-0400
TZOFFSETTO:-0500
TZNAME:EST
DTSTART:20231105T060000
END:STANDARD
BEGIN:DAYLIGHT
TZOFFSETFROM:-0500
TZOFFSETTO:-0400
TZNAME:EDT
DTSTART:20240310T070000
END:DAYLIGHT
BEGIN:STANDARD
TZOFFSETFROM:-0400
TZOFFSETTO:-0500
TZNAME:EST
DTSTART:20241103T060000
END:STANDARD
END:VTIMEZONE
BEGIN:VEVENT
DTSTART;TZID=America/New_York:20230204T150000
DTEND;TZID=America/New_York:20230204T170000
DTSTAMP:20260419T085124
CREATED:20230106T153755Z
LAST-MODIFIED:20230201T192316Z
UID:3652-1675522800-1675530000@www.mallarmemusic.org
SUMMARY:NC HIP MUSIC FESTIVAL CONCERT: Biber Bowl Revisited in Raleigh
DESCRIPTION:As the opening event for the 2023 North Carolina HIP Music Festival\, Mallarme presents the music of Heinrich Ignaz Franz Biber. Biber was a master of stringed instruments and wrote the 15 Mystery Sonatas that chronicle the life of Christ through music for violin and continuo. Mallarme presented this collection of sonatas in February 2016 to great acclaim\, and is “revisiting” the music of Biber including one sonata from the Mystery sonatas plus works from Harmonia artificioso-ariosa (1696)\, Sonata tam aris quam aulis servientes (1676)\, Mensa sonora (1680) and Fidicinium sacro profanum (1682/3). \nThis performance will be presented twice – in Raleigh on February 4\, 3:00 pm @ Christ Church and again in Durham\, on February 5\, 3:00 pm @ St Paul’s Lutheran Church. \nREAD THE CONCERT PROGRAM \nARTISTS\nMartie Perry and David Wilson – violin\nJoey O’Donnell and Suzanne Rousso – viola\nStephanie Vial– cello\, Jennifer Streeter – harpsichord\nKathryn Adduci – trumpet\, Daniel Swenberg – theorbo\, David Faircloth – baritone \nKathryn Adduci’s appearance is supported by Kathy and Lex Silbiger \nPROGRAM\nSonata IV a Cinque from Sonatae Tam Aris Quam Aulis Servientes\nSonata III in F Major (1681)\, C. 140 for violin and continuo\nRosary Sonata No. 2 “The Visitation” for violin and continuo\nHarmonia Artificiosa-Ariosa in A Major\, Partia III for two violins and continuo\nMensa Sonora\, Pars III in A Minor\, C.71\nSerenade a Cinque “Night Watchman”\nSonata a Six (c. 1673) \nSingle tickets: $30/ $15/$10 PURCHASE \nTo purchase tickets for the Sunday\, Feb 5 Biber Bowl concert in Durham Click here \nAlso accepted for entry are 2023 HIPster passes and Mallarme Chamber Players subscriptions.
URL:https://www.mallarmemusic.org/event/nc-hip-music-festival-concert-biber-bowl-revisited/
LOCATION:Christ Church\, 120 E Edenton Street\, Raleigh\, NC\, 27601\, United States
CATEGORIES:Concert,HIP Festival
ORGANIZER;CN="Mallarme Chamber Players":MAILTO:office@mallarmemusic.org
END:VEVENT
BEGIN:VEVENT
DTSTART;TZID=America/New_York:20230205T150000
DTEND;TZID=America/New_York:20230205T170000
DTSTAMP:20260419T085124
CREATED:20220921T164312Z
LAST-MODIFIED:20230201T192426Z
UID:3430-1675609200-1675616400@www.mallarmemusic.org
SUMMARY:NC HIP MUSIC FESTIVAL CONCERT: Biber Bowl Revisited in Durham
DESCRIPTION:As the opening event for the 2023 North Carolina HIP Music Festival\, Mallarme presents the music of Heinrich Ignaz Franz Biber. Biber was a master of stringed instruments and wrote the 15 Mystery Sonatas that chronicle the life of Christ through music for violin and continuo. Mallarme presented this collection of sonatas in February 2016 to great acclaim\, and is “revisiting” the music of Biber including one sonata from the Mystery sonatas plus works from Harmonia artificioso-ariosa (1696)\, Sonata tam aris quam aulis servientes (1676) and Mensa sonora (1680) \nThis performance will be presented twice – in Raleigh on February 4\, 3:00 pm @ Christ Church and again in Durham\, on February 5\, 3:00 pm @ St Paul’s Lutheran Church. \nREAD THE CONCERT PROGRAM \nARTISTS\nMartie Perry and David Wilson – violin\nJoey O’Donnell and Suzanne Rousso – viola\nBarbara Krumdieck – cello\, Jennifer Streeter – harpsichord\nKathryn Adduci – trumpet\, Daniel Swenberg – theorbo\, David Faircloth – baritone \nKathryn Adduci’s appearance is supported by Kathy and Lex Silbiger \nPROGRAM\nSonata IV a Cinque from Sonatae Tam Aris Quam Aulis Servientes\nSonata III in F Major (1681)\, C. 140 for violin and continuo\nRosary Sonata No. 2 “The Visitation” for violin and continuo\nHarmonia Artificiosa-Ariosa in A Major\, Partia III for two violins and continuo\nMensa Sonora\, Pars III in A Minor\, C.71\nSerenade a Cinque “Night Watchman”\nSonata a Six (c. 1673) \nSingle tickets: $30/ $15/$10 PURCHASE \nAlso accepted for entry are 2023 HIPster passes and Mallarme Chamber Players subscriptions.
URL:https://www.mallarmemusic.org/event/biber-bowl-revisted-2023-hip-festival-opening-concert/
LOCATION:St Paul’s Lutheran Church\, 1200 W Cornwallis Road\, Durham\, NC\, 27705\, United States
CATEGORIES:Concert,HIP Festival
ATTACH;FMTTYPE=image/png:https://www.mallarmemusic.org/wp-content/uploads/2023/01/SQUARE-HIP-template-with-Biber-red-1.png
ORGANIZER;CN="Mallarme Chamber Players":MAILTO:office@mallarmemusic.org
END:VEVENT
BEGIN:VEVENT
DTSTART;TZID=America/New_York:20230207T193000
DTEND;TZID=America/New_York:20230207T210000
DTSTAMP:20260419T085124
CREATED:20230105T185323Z
LAST-MODIFIED:20230208T173230Z
UID:3636-1675798200-1675803600@www.mallarmemusic.org
SUMMARY:NC HIP MUSIC FESTIVAL CONCERT: Gems of the Obscure
DESCRIPTION:CONCERT: Gems of the Obscure \nTuesday\, February 7\, 2023 @7:30 pm\, St. Paul’s Lutheran Church\, Durham \nWorks by Cappus\, Kühnel and Schenck for viola da gamba and lute | $20 Donation at the door or HIPster pass \nGail Ann Schroeder – viola da gamba\nDaniel Swenberg – Baroque lute & theorbo
URL:https://www.mallarmemusic.org/event/nc-hip-music-festival-concert-gems-of-the-obscure/
LOCATION:St Paul’s Lutheran Church\, 1200 W Cornwallis Road\, Durham\, NC\, 27705\, United States
CATEGORIES:Concert,HIP Festival
ATTACH;FMTTYPE=image/png:https://www.mallarmemusic.org/wp-content/uploads/2023/01/SQUARE-HIP-template-with-Dan-Swenberg-theorbo-purp.png
ORGANIZER;CN="Mallarme Chamber Players":MAILTO:office@mallarmemusic.org
END:VEVENT
BEGIN:VEVENT
DTSTART;TZID=America/New_York:20230208T193000
DTEND;TZID=America/New_York:20230208T213000
DTSTAMP:20260419T085124
CREATED:20230105T194034Z
LAST-MODIFIED:20230206T223439Z
UID:3642-1675884600-1675891800@www.mallarmemusic.org
SUMMARY:NC HIP MUSIC FESTIVAL CONCERT: The Baryton ~15 strings to bow or pluck
DESCRIPTION:CONCERT: The Baryton: 15 strings to bow or pluck (UNC-CH MUSIC Department)\nWednesday\, February 8\, 2023 @ 7:30 pm\, Person Recital Hall\, UNC-CH\nThe Baryton is a member of the viol family with 6 bowed strings\, and 9 sympathetic strings that can also be plucked. This concert will sample a variety of chamber music written for it in the 18th-century including Haydn who composed over 200 works for Baryton! | FREE \nARTISTS\nBrent Wissick – baryton\, Suzanne Rousso – viola\, Stephanie Vial – cello\, Rachel Niketopoulos and Chris Caudill – horns\, Jeanne Fischer – soprano\, Mimi Solomon – fortepiano\, Nicholas DiEugenio – violin
URL:https://www.mallarmemusic.org/event/nc-hip-music-festival-concert-the-baryton-15-strings-to-bow-or-pluck/
LOCATION:Person Recital Hall\, 181 E. Cameron Ave\, Chapel Hill\, NC\, 27514
CATEGORIES:Concert,HIP Festival
ATTACH;FMTTYPE=image/png:https://www.mallarmemusic.org/wp-content/uploads/2023/01/SQUARE-HIP-template-with-Brent-Wissick-blue.png
ORGANIZER;CN="Mallarme Chamber Players":MAILTO:office@mallarmemusic.org
END:VEVENT
BEGIN:VEVENT
DTSTART;TZID=America/New_York:20230210T193000
DTEND;TZID=America/New_York:20230210T210000
DTSTAMP:20260419T085124
CREATED:20230106T155345Z
LAST-MODIFIED:20230207T015820Z
UID:3660-1676057400-1676062800@www.mallarmemusic.org
SUMMARY:NC HIP MUSIC FESTIVAL CONCERT: Flourish Hoboys! Wind Music from Renaissance England
DESCRIPTION:Friday\, February 10\, 2023 @ 7:30 pm\, St. Paul’s Lutheran Church\, Durham \nForgotten Clefs presents the soundscape of Renaissance England by exploring musical gems from the Tudor court and common street festivities \nARTISTS Christopher Armijo\, Keith Collins\, Adam Dillon\, Kelsey Schilling\, Sarah Schilling \n$20 Requested Donation at the door OR HIPster pass \nThrough the performance and research of Renaissance music\, Forgotten Clefs aims to steward a more inclusive early music community. Forgotten Clefs recognizes that arts organizations have perpetuated an exclusive\, privileged view of history. The ensemble is committed to inclusion through artistic and administrative diversity combined with music performance that provides a more inclusive experience of Western music history\, and actively seeks out new repertoire representative of marginalized performers\, composers\, artists\, and cultures. https://forgottenclefs.org/about
URL:https://www.mallarmemusic.org/event/nc-hip-music-festival-concert-flourish-hoboys-wind-music-from-renaissance-england/
LOCATION:St Paul’s Lutheran Church\, 1200 W Cornwallis Road\, Durham\, NC\, 27705\, United States
CATEGORIES:Concert,HIP Festival
ATTACH;FMTTYPE=image/png:https://www.mallarmemusic.org/wp-content/uploads/2023/01/SQUARE-HIP-template-with-Forgotten-Clefs-family-reda.png
END:VEVENT
BEGIN:VEVENT
DTSTART;TZID=America/New_York:20230211T130000
DTEND;TZID=America/New_York:20230211T140000
DTSTAMP:20260419T085124
CREATED:20230106T175336Z
LAST-MODIFIED:20230110T165351Z
UID:3674-1676120400-1676124000@www.mallarmemusic.org
SUMMARY:NC HIP MUSIC FESTIVAL FAMILY CONCERT: Crumhorns & Clever Consorts! Instruments families from the Renaissance
DESCRIPTION:Saturday\, February 11\, 2023 @ 1: 00 pm\, Kirby Horton Hall\, Duke Gardens\, Durham\nMallarmé presents the Forgotten Clefs in fun melodies from Renaissance England!\nLearn about cool Renaissance instruments like sackbuts\, crumhorns\, and recorders! | FREE \nARTISTS: Christopher Armijo\, Keith Collins\, Adam Dillon\, Kelsey Schilling\, Sarah Schilling \nWe welcome peeps 5-years-old and up!
URL:https://www.mallarmemusic.org/event/nc-hip-music-festival-family-concert-crumhorns-clever-consorts-instruments-families-from-the-renaissance/
LOCATION:Duke Gardens\, 420 Anderson St.\, Durham\, NC\, 27701\, United States
CATEGORIES:Family Concert,HIP Festival
ATTACH;FMTTYPE=image/png:https://www.mallarmemusic.org/wp-content/uploads/2023/01/SQUARE-HIP-template-with-Forgotten-Clefs-family-red.png
ORGANIZER;CN="Mallarme Chamber Players":MAILTO:office@mallarmemusic.org
END:VEVENT
BEGIN:VEVENT
DTSTART;TZID=America/New_York:20230211T193000
DTEND;TZID=America/New_York:20230211T203000
DTSTAMP:20260419T085124
CREATED:20230110T172401Z
LAST-MODIFIED:20230110T172644Z
UID:3706-1676143800-1676147400@www.mallarmemusic.org
SUMMARY:NC HIP MUSIC FESTIVAL CONCERT: Now and Then\, solo viola da gamba through the ages
DESCRIPTION:CONCERT: Now and Then\, solo viola da gamba through the ages (Gail Ann Schroeder\, curator)\nSaturday\, February 11\, 2023 @ 7:30 pm\, St. Paul’s Lutheran Church\, Durham\nWorks by Dubuisson\, Telemann\, C.F. Abel\, M. Bishop and D. Loeb | $20 Donation At The Door*
URL:https://www.mallarmemusic.org/event/nc-hip-music-festival-concert-now-and-then-solo-viola-da-gamba-through-the-ages/
LOCATION:St Paul’s Lutheran Church\, 1200 W Cornwallis Road\, Durham\, NC\, 27705\, United States
CATEGORIES:HIP Festival
ATTACH;FMTTYPE=image/png:https://www.mallarmemusic.org/wp-content/uploads/2023/01/SQUARE-HIP-template-with-Gail-Ann-Schroeder-purp.png
ORGANIZER;CN="Mallarme Chamber Players":MAILTO:office@mallarmemusic.org
END:VEVENT
BEGIN:VEVENT
DTSTART;TZID=America/New_York:20230212T120000
DTEND;TZID=America/New_York:20230212T140000
DTSTAMP:20260419T085124
CREATED:20230125T165308Z
LAST-MODIFIED:20230125T170242Z
UID:3829-1676203200-1676210400@www.mallarmemusic.org
SUMMARY:2023 NC HIP MUSIC FESTIVAL SPECIAL EVENT: Baroque Brunch @ Alley Twenty Six
DESCRIPTION:Join lutenist/vocalist Salomé Sandoval as she serenades brunchers with Baroque music at Alley Twenty Six\, in downtown Durham! Enjoy your scrumptious meal and craft cocktails while listening to beautiful music at the James Beard nominated restaurant for Outstanding Bar Program owned by Shannon Healy\, mixologist supreme! Go to https://www.alleytwentysix.com/ to make a reservation and check out the menu!
URL:https://www.mallarmemusic.org/event/2023-nc-hip-music-festival-special-event-baroque-brunch-alley-twenty-six/
LOCATION:Alley Twenty Six\, 320 E Chapel Hill Street\, Durham\, NC\, 27701\, United States
CATEGORIES:HIP Festival
ORGANIZER;CN="Mallarme Chamber Players":MAILTO:office@mallarmemusic.org
END:VEVENT
BEGIN:VEVENT
DTSTART;TZID=America/New_York:20230212T150000
DTEND;TZID=America/New_York:20230212T170000
DTSTAMP:20260419T085124
CREATED:20230117T185245Z
LAST-MODIFIED:20230117T185415Z
UID:3728-1676214000-1676221200@www.mallarmemusic.org
SUMMARY:NC HIP MUSIC FESTIVAL CONCERT: Novelty and Familiarity: The 18th century string trio
DESCRIPTION: (Baroque & Beyond/ The Vivaldi Project)\nSunday\, February 12\, 2023 @ 3:00 pm\, Holy Trinity Lutheran Church\, 227 E. Rosemary Street\, Chapel Hill\nThe title of this program sums up the 18th-century string trio\, which is at once brand new and wonderfully familiar—an extensive body of works\, mostly unknown to modern audiences\, yet written in a language we know and love. As part of the 2022 North Carolina HIP Festival\, the Vivaldi Project presents a program that includes the modern premiere of a trio by Maddalena Sirmen (from Duke’s Rubenstein rare book and manuscript Library) as well as works by Simon Leduc l’aîné\, Haydn\, Boccherini\, and Beethoven.  LEARN MORE | Tickets: $25 OR HIPSter Pass \nElizabeth Field – violin\, Allison Nyquist – violin and viola\, Stephanie Vial – cello
URL:https://www.mallarmemusic.org/event/nc-hip-music-festival-concert-novelty-and-familiarity-the-18th-century-string-trio/
LOCATION:Holy Trinity Lutheran Church\, 227 East Rosemary Street\, Chapel Hill\, NC\, 27514\, United States
CATEGORIES:HIP Festival
ATTACH;FMTTYPE=image/png:https://www.mallarmemusic.org/wp-content/uploads/2023/01/SQUARE-WEB-HIP-template-with-Vivaldi-Project-blue.png
END:VEVENT
BEGIN:VEVENT
DTSTART;TZID=America/New_York:20230214T193000
DTEND;TZID=America/New_York:20230214T210000
DTSTAMP:20260419T085124
CREATED:20230117T191108Z
LAST-MODIFIED:20230213T003753Z
UID:3737-1676403000-1676408400@www.mallarmemusic.org
SUMMARY:NC HIP MUSIC FESTIVAL CONCERT: Weeping\, wailing\, and gnashing of teeth
DESCRIPTION:Tuesday\, February 14\, 2023 @ 7:30 pm\, St Paul’s Lutheran Church\, Durham\nAn anti-Valentine’s event for cynics and anyone with Valentine’s blues.\nMusic of Barbara Strozzi and John Dowland plus the poetry of Christopher Marlowe\, Sir Walter Ralegh\,  Sir Thomas Wyatt\, Maura High\, Alison Hurwitz\n|$20 Donation at the door OR HIPSter pass\nTamsin Simmill – vocalist\, William Simms – plucked strings\, Maura High and Alison Hurwitz – recitation
URL:https://www.mallarmemusic.org/event/nc-hip-music-festival-concert-weeping-wailing-and-gnashing-of-teeth/
LOCATION:St Paul’s Lutheran Church\, 1200 W Cornwallis Road\, Durham\, NC\, 27705\, United States
CATEGORIES:HIP Festival
ATTACH;FMTTYPE=image/png:https://www.mallarmemusic.org/wp-content/uploads/2023/01/SQUARE-HIP-template-with-TAMSIN-1.png
ORGANIZER;CN="Mallarme Chamber Players":MAILTO:office@mallarmemusic.org
END:VEVENT
BEGIN:VEVENT
DTSTART;TZID=America/New_York:20230217T073000
DTEND;TZID=America/New_York:20230217T210000
DTSTAMP:20260419T085124
CREATED:20230123T162455Z
LAST-MODIFIED:20230215T162156Z
UID:3749-1676619000-1676667600@www.mallarmemusic.org
SUMMARY:NC HIP MUSIC FESTIVAL CONCERT: La Cecchina: Italian 17th Century for voice and archlute
DESCRIPTION:A selection of works by Caccini\, Strozzi and Archilei\, music that was performed by singers who self-accompanied in 17th-century Italy. \nSalomé Sandoval – voice and archlute \n$20 donation at the door or HIPster pass\n \nThis performance is in the Fellowship Hall of St Philip’s Episcopal Church MAP: https://goo.gl/maps/2xpXNo2E16RPPZLL9\n403 E Main St\nDurham NC 27701\nParking is available in the church lot on the east side of the sanctuary and on the street.
URL:https://www.mallarmemusic.org/event/nc-hip-music-festival-la-cecchina-italian-17th-century-for-voice-and-archlute/
LOCATION:St Philip’s Episcopal Church\, 403 E Main Street\, Durham\, NC\, 27701\, United States
CATEGORIES:Concert,HIP Festival
ATTACH;FMTTYPE=image/png:https://www.mallarmemusic.org/wp-content/uploads/2023/01/SQUARE-HIP-template-with-Salome-purp.png
ORGANIZER;CN="Mallarme Chamber Players":MAILTO:office@mallarmemusic.org
END:VEVENT
BEGIN:VEVENT
DTSTART;TZID=America/New_York:20230218T170000
DTEND;TZID=America/New_York:20230218T183000
DTSTAMP:20260419T085124
CREATED:20230123T183138Z
LAST-MODIFIED:20230215T174336Z
UID:3760-1676739600-1676745000@www.mallarmemusic.org
SUMMARY:2023 NC HIP MUSIC FESTIVAL LECTURE: Black Fiddlers of Monticello
DESCRIPTION:Black Fiddlers of Monticello tells the story of the three fiddle-playing sons of Sally Hemings and Thomas Jefferson\, as well as their fiddling cousins\, the Scotts. Both families played for important events at Monticello and lived in downtown Charlottesville for a time. This multimedia program will teach participants about these fiddlers’ important musical contributions\, and you will hear what the music sounded like through a performance demonstration by David McCormick – violinist\, scholar\, and 2020 Fellow of the International Center for Jefferson Studies. \nBaroque violinist David McCormick is artistic director of Early Music Access Project\, founding member of Brooklyn-based medieval ensemble Alkemie\, and the executive director of Early Music America. \nThis performance is in Goodson Chapel\, which is in the Divinity School of Duke University. You may park in the Bryan Center parking deck\, walk towards Duke Chapel and the Divinity School is the building immediately next to Duke Chapel on its right side (if you are facing the chapel). Walk along the Chapel’s right side\, and enter the Divinity School at the back-most entrance\, go down the stairs and Goodson chapel is on your left.
URL:https://www.mallarmemusic.org/event/2023-nc-hip-music-festival-lecture-demo-black-fiddlers-of-monticello/
LOCATION:Goodson Chapel\, 407 Chapel Drive\, Durham\, NC\, 27705\, United States
CATEGORIES:HIP Festival
ATTACH;FMTTYPE=image/png:https://www.mallarmemusic.org/wp-content/uploads/2023/01/SQUARE-WEB-HIP-template-with-David-M-blue.png
ORGANIZER;CN="Mallarme Chamber Players":MAILTO:office@mallarmemusic.org
END:VEVENT
BEGIN:VEVENT
DTSTART;TZID=America/New_York:20230219T160000
DTEND;TZID=America/New_York:20230219T180000
DTSTAMP:20260419T085124
CREATED:20230123T195424Z
LAST-MODIFIED:20230123T195424Z
UID:3765-1676822400-1676829600@www.mallarmemusic.org
SUMMARY:2023 NC HIP MUSIC FESTIVAL CONCERT: Might\, Magnificence\, and Jubilation
DESCRIPTION:Choral and orchestral works to inspire today’s youth!\nRaleigh Camerata\, Voices of a New Renaissance\, Capital City Girls’ Choir\, NC Master Chorale Youth Choir\nNathan Leaf – conductor \nMusic to include:\nAntonio Vivaldi: Magnificat RV 610\nJean-Joseph de Mondonville: Jubilate Deo\nGeorge Philipp Telemann: Deutsches Magnificat in G Major TWV 9:18\nJan Dismas Zelenka: Dixit Dominus ZWV 66 \nInstrumental Musicians:\nAllison Willet\, David Wilson\, Gabriel Richard\, Matvey Lapin\, Janelle Davis\, Andy Bonner: violin\nJoey O’Donnell\, Suzanne Rousso: viola\nSarah Wines and Chris Nunnally: cello\nRobbie Link: violone\nKelly Nivison: traverso and recorder\nSarah Schilling\, Will Thauer: oboe\nKelsey Schilling: bassoon\nJennifer Streeter: organ \nTickets: $20/$15/$5 PURCHASE SINGLE TICKET\nOR HIPster pass
URL:https://www.mallarmemusic.org/event/2023-nc-hip-music-festival-concert-might-magnificence-and-jubilation/
LOCATION:First United Methodist Church of Cary\, 17 S. Academy Street\, Cary\, NC\, 27511\, United States
CATEGORIES:HIP Festival
ORGANIZER;CN="Mallarme Chamber Players":MAILTO:office@mallarmemusic.org
END:VEVENT
BEGIN:VEVENT
DTSTART;TZID=America/New_York:20230224T193000
DTEND;TZID=America/New_York:20230224T213000
DTSTAMP:20260419T085124
CREATED:20230123T220137Z
LAST-MODIFIED:20230123T221146Z
UID:3774-1677267000-1677274200@www.mallarmemusic.org
SUMMARY:2023 NC HIP MUSIC FESTIVAL CONCERT: Inspired by Bach: The Six Sonatas and Partitas for solo violin
DESCRIPTION:We don’t know exactly when or exactly why Bach wrote his Sei Solo for “violin without bass” (probably around 300 years ago)\, and after their mid-19th century rise to prominence they have remained a staple in violin learning and literature ever since. Much has been made of the grammatical curiosity on their title page (Sei Solo reading variously as “you are alone” or “he is alone”)\, since Bach was famously meticulous and could easily have written Sei Soli (six solos).\n \nDuring the height of the pandemic\, violinist Nicholas DiEugenio explored these works in conjunction with interviews of his musician-friends doing social justice work\, in an effort to feel less alone himself. Since then\, Nicholas has created works of visual art inspired by each of these incredible\, monumental pieces\, which will be projected as the music sounds. \nFree\, no reservation required
URL:https://www.mallarmemusic.org/event/2023-nc-hip-music-festival-concert-inspired-by-bach-the-six-sonatas-and-partitas-for-solo-violin/
LOCATION:Moeser Auditorium\, 145 E. Cameron Ave\, Chapel Hill\, NC\, NC\, 27599\, United States
CATEGORIES:HIP Festival
END:VEVENT
BEGIN:VEVENT
DTSTART;TZID=America/New_York:20230225T160000
DTEND;TZID=America/New_York:20230225T170000
DTSTAMP:20260419T085124
CREATED:20230123T222454Z
LAST-MODIFIED:20230123T222454Z
UID:3781-1677340800-1677344400@www.mallarmemusic.org
SUMMARY:2023 NC HIP MUSIC FESTIVAL CONCERT: Celtic Dynamic Duo
DESCRIPTION:A duo of two award-winning American masters of traditional Celtic music blend the ancient and magical tones of the Celtic harp with the powerful resonance of the steel-string guitar\, cittern and mandolin\, drawing on Irish\, Scottish\, Welsh and Breton traditions to create something truly unique: beautiful and timeless\, yet fresh and current \nSue Richards – Celtic harp\, Robin Bullock – guitar\, cittern\, mandolin \n$10 Donation at the door or HIPster pass
URL:https://www.mallarmemusic.org/event/2023-nc-hip-music-festival-concert-celtic-dynamic-duo/
LOCATION:St Paul’s Lutheran Church\, 1200 W Cornwallis Road\, Durham\, NC\, 27705\, United States
CATEGORIES:HIP Festival
ATTACH;FMTTYPE=image/png:https://www.mallarmemusic.org/wp-content/uploads/2023/01/SQUARE-HIP-template-with-Celtic-purp.png
ORGANIZER;CN="Mallarme Chamber Players":MAILTO:office@mallarmemusic.org
END:VEVENT
BEGIN:VEVENT
DTSTART;TZID=America/New_York:20230226T130000
DTEND;TZID=America/New_York:20230226T143000
DTSTAMP:20260419T085124
CREATED:20230124T000738Z
LAST-MODIFIED:20230124T001201Z
UID:3784-1677416400-1677421800@www.mallarmemusic.org
SUMMARY:2023 NC HIP MUSIC FESTIVAL WORKSHOP: Baroque Dance Types and Rhythms for Musicians & Dancers
DESCRIPTION:Baroque Dance Types and Rhythms for Musicians & Dancers (registration required\, $15)\nFebruary 26\, 2023 @ 1:00 – 2:30 Samuel H. Scripps Studio # 1\, Durham \nLearn Baroque Dance steps and step sequences in various Baroque Music-Dance Types to illuminate and internalize rhythms with examples of Baroque Dance as the root of Classical Ballet. This class is appropriate for those with dance experience and/or musical knowledge of dance forms. \nThis event is co-sponsored by American Dance Festival \n$15 Registration fee to participate PURCHASE\n$0 for HIPSter pass holders to AUDIT\, no registration required
URL:https://www.mallarmemusic.org/event/2023-nc-hip-music-festival-workshop-baroque-dance-types-and-rhythms-for-musicians-dancers/
LOCATION:ADF Scripps Studio\, 721 Broad Street\, Durham\, 27705\, United States
CATEGORIES:HIP Festival,Workshop
ORGANIZER;CN="Mallarme Chamber Players":MAILTO:office@mallarmemusic.org
END:VEVENT
BEGIN:VEVENT
DTSTART;TZID=America/New_York:20230226T150000
DTEND;TZID=America/New_York:20230226T163000
DTSTAMP:20260419T085124
CREATED:20230124T002534Z
LAST-MODIFIED:20230124T004148Z
UID:3795-1677423600-1677429000@www.mallarmemusic.org
SUMMARY:2023 NC HIP MUSIC FESTIVAL WORKSHOP: Introduction to Baroque Dance
DESCRIPTION:Introduction to Baroque Dance: open to all\, registration required\, $15 fee or HIPster pass\nSunday\, February 26\, 2023 @ 3:00 – 4:30 Samuel H. Scripps Studio # 2\, Durham\nLearn basic Baroque Dance steps and rhythms with reference to historical context\nLead by Paige Whitley-Bauguess \nThis event is co-sponsored by American Dance Festival \n$15 Registration fee to participate PURCHASE\n$0 for HIPSter pass holders to participate\, registration required (HIPster passholders will receive a promo code – please email office@mallarmemusic if you did not receive it)
URL:https://www.mallarmemusic.org/event/2023-nc-hip-music-festival-workshop-introduction-to-baroque-dance/
LOCATION:ADF Scripps Studio\, 721 Broad Street\, Durham\, 27705\, United States
CATEGORIES:HIP Festival,Workshop
ATTACH;FMTTYPE=image/png:https://www.mallarmemusic.org/wp-content/uploads/2023/01/SQUARE-WEB-HIP-template-with-Paige-blue-1.png
ORGANIZER;CN="Mallarme Chamber Players":MAILTO:office@mallarmemusic.org
END:VEVENT
END:VCALENDAR